BEGIN:VCALENDAR
VERSION:2.0
PRODID:-//ChamberMaster//Event Calendar 2.0//EN
METHOD:PUBLISH
X-PUBLISHED-TTL:P3D
REFRESH-INTERVAL:P3D
CALSCALE:GREGORIAN
BEGIN:VEVENT
DTSTART:20130710T153000Z
DTEND:20130710T160000Z
X-MICROSOFT-CDO-ALLDAYEVENT:FALSE
SUMMARY:Unity Church of the Hill Country Ribbon Cutting
DESCRIPTION:Unity Church of the Hill Country Ribbon Cutting\n\nWednesday\, July 10\, 10:30 am\n\n1016 Jefferson St
X-ALT-DESC;FMTTYPE=text/html:Unity Church of the Hill Country Ribbon Cutting<br />\nWednesday\, July 10\, 10:30 am<br />\n1016 Jefferson St
LOCATION:
UID:e.1327.992
SEQUENCE:3
DTSTAMP:20260419T182355Z
URL:https://business.kerrvillechamber.biz/events/details/unity-church-of-the-hill-country-ribbon-cutting-07-10-2013-992
END:VEVENT

END:VCALENDAR
