BEGIN:VCALENDAR
VERSION:2.0
PRODID:-//ChamberMaster//Event Calendar 2.0//EN
METHOD:PUBLISH
X-PUBLISHED-TTL:P3D
REFRESH-INTERVAL:P3D
CALSCALE:GREGORIAN
BEGIN:VEVENT
DTSTART:20260123T230000Z
DTEND:20260124T020000Z
X-MICROSOFT-CDO-ALLDAYEVENT:FALSE
SUMMARY:Vista Dive Bar Night
DESCRIPTION:Vista Dive Bar Night \n\nThursday\, January 23 | 5:00 PM - 8:00 PM\n\nVista Room at Comanche Trace\n\nWe're turning the Vista Room into your new favorite dive bar no neon sign required. Cold beer\, drink specials\, live country music\, and a dance floor ready to hit when the music starts.\n\nGrab dinner at The Pinnacle Grill first\, then head upstairs and let the night get a little louder\, a little more relaxed\, and a lot more fun. No fuss\, no frills just good country music\, good drinks\, and good company.\n\nCome for one  stay for the night.\n\nSee you at the Vista Dive Bar.
X-ALT-DESC;FMTTYPE=text/html:<p><strong>Vista Dive Bar Night</strong>&nbsp\;<br />\n<strong>Thursday\, January 23 | 5:00 PM - 8:00 PM</strong><br />\n<em>Vista Room at Comanche Trace</em></p>\n\n<p>We&rsquo\;re turning the Vista Room into your new favorite dive bar&mdash\;no neon sign required. Cold beer\, drink specials\, live country music\, and a dance floor ready to hit when the music starts.</p>\n\n<p>Grab dinner at The Pinnacle Grill first\, then head upstairs and let the night get a little louder\, a little more relaxed\, and a lot more fun. No fuss\, no frills&mdash\;just good country music\, good drinks\, and good company.</p>\n\n<p>Come for one&hellip\; stay for the night.<br />\nSee you at the Vista Dive Bar.&nbsp\;</p>\n\n<p>&nbsp\;</p>\n
LOCATION:Vista Room at Comanche Trace
UID:e.1327.29267
SEQUENCE:3
DTSTAMP:20260423T135517Z
URL:https://business.kerrvillechamber.biz/events/details/vista-dive-bar-night-29267
END:VEVENT

END:VCALENDAR
