BEGIN:VCALENDAR
VERSION:2.0
PRODID:-//ChamberMaster//Event Calendar 2.0//EN
METHOD:PUBLISH
X-PUBLISHED-TTL:P3D
REFRESH-INTERVAL:P3D
CALSCALE:GREGORIAN
BEGIN:VEVENT
DTSTART:20130404T150000Z
DTEND:20130404T210000Z
X-MICROSOFT-CDO-ALLDAYEVENT:FALSE
SUMMARY:Visual Voices
DESCRIPTION:Kerrville Art Club's Annual Juried Show. For additional information\, please call 830-895-2911 or visit http://www.kacckerrville.com
X-ALT-DESC;FMTTYPE=text/html:Kerrville Art Club&#39\;s Annual Juried Show. For additional information\, please call 830-895-2911 or visit http://www.kacckerrville.com&nbsp\;&nbsp\;&nbsp\;&nbsp\;
LOCATION:Kerr Arts & Cultural Center 228 Earl Garrett St.
UID:e.1327.620
SEQUENCE:3
DTSTAMP:20260420T001858Z
URL:https://business.kerrvillechamber.biz/events/details/visual-voices-04-04-2013-620
END:VEVENT

END:VCALENDAR
