BEGIN:VCALENDAR
VERSION:2.0
PRODID:-//ChamberMaster//Event Calendar 2.0//EN
METHOD:PUBLISH
X-PUBLISHED-TTL:P3D
REFRESH-INTERVAL:P3D
CALSCALE:GREGORIAN
BEGIN:VEVENT
DTSTART:20130904T150000Z
DTEND:20130904T170000Z
X-MICROSOFT-CDO-ALLDAYEVENT:FALSE
SUMMARY:Volunteer Deputy Voter Registrar Training
DESCRIPTION:If you wish to register Voters for the upcoming election in November and do not have a current certificate\, it is necessary to attend the above training.  Please contact Michele Schneider\, micheles@co.kerr.tx.us or call her at 830-792-2248 to register.  You may also register by contacting Gloria Algeo at galgeo@ktc.com or 830-377-8327.  There is no cost.  If you have been certified before\, bring your voter registration supplies and booklet with you. \n\n\n\nNational Voter Registration Day is Tuesday\, September 24\, 2013.  Once you are certified\, if you are interested in volunteeriing to register voters at events scheduled throughout the Kerrville Area (one of two hours)\, please contact Gloria Algeo at galgeo@ktc.com or call 830-377-8327.
X-ALT-DESC;FMTTYPE=text/html:If you wish to register Voters for the upcoming election in November and do not have a current certificate\, it is necessary to attend the above training.&nbsp\; Please contact Michele Schneider\, micheles@co.kerr.tx.us or call her at 830-792-2248 to register.&nbsp\; You may also register by contacting Gloria Algeo at galgeo@ktc.com or 830-377-8327.&nbsp\; There is no cost.&nbsp\; If you have been certified before\, bring your voter registration supplies and booklet with you.&nbsp\;<br />\n<br />\nNational Voter Registration Day is Tuesday\, September 24\, 2013.&nbsp\; Once you are certified\, if you are interested in volunteeriing to register voters at events scheduled throughout the Kerrville Area (one of two hours)\, please contact Gloria Algeo at galgeo@ktc.com or call 830-377-8327.
LOCATION:Riverside Nature Center\, 150 Francisco Lemos\, Kerrville\, TX 830-257-4837
UID:e.1327.1106
SEQUENCE:3
DTSTAMP:20260419T151733Z
URL:https://business.kerrvillechamber.biz/events/details/volunteer-deputy-voter-registrar-training-09-04-2013-1106
END:VEVENT

END:VCALENDAR
