BEGIN:VCALENDAR
VERSION:2.0
PRODID:-//ChamberMaster//Event Calendar 2.0//EN
METHOD:PUBLISH
X-PUBLISHED-TTL:P3D
REFRESH-INTERVAL:P3D
CALSCALE:GREGORIAN
BEGIN:VEVENT
DTSTART:20251003T170000Z
DTEND:20251003T173000Z
X-MICROSOFT-CDO-ALLDAYEVENT:FALSE
SUMMARY:Water Street Antique Mall
DESCRIPTION:KACOC Ribbon Cutting - Water Street Antique Mall
X-ALT-DESC;FMTTYPE=text/html:KACOC Ribbon Cutting - Water Street Antique Mall
LOCATION:820 Water St\, Kerrville TX 78028
UID:e.1327.29199
SEQUENCE:3
DTSTAMP:20260423T164748Z
URL:https://business.kerrvillechamber.biz/events/details/water-street-antique-mall-29199
END:VEVENT

END:VCALENDAR
