BEGIN:VCALENDAR
VERSION:2.0
PRODID:-//ChamberMaster//Event Calendar 2.0//EN
METHOD:PUBLISH
X-PUBLISHED-TTL:P3D
REFRESH-INTERVAL:P3D
CALSCALE:GREGORIAN
BEGIN:VEVENT
DTSTART:20250920T140000Z
DTEND:20250920T180000Z
X-MICROSOFT-CDO-ALLDAYEVENT:FALSE
SUMMARY:Watershed - 101 at River Oaks Courts
DESCRIPTION:Bring the entire family to explore watersheds in a captivating natural setting.\n\nLearn about the significance of healthy watersheds and how you can become a steward of these vital ecosystems.\n\nThis free event is proudly sponsored by River Oaks Courts and BCRAGD.
X-ALT-DESC;FMTTYPE=text/html:<span style="background-color:rgb(240\, 241\, 245)\; color:rgb(14\, 19\, 24)\; font-family:canva sans\,noto sans variable\,noto sans\,-apple-system\,system-ui\,segoe ui\,helvetica\,arial\,sans-serif\; font-size:14px">Bring the entire family to explore watersheds in a captivating natural setting.</span><br />\n<span style="background-color:rgb(240\, 241\, 245)\; color:rgb(14\, 19\, 24)\; font-family:canva sans\,noto sans variable\,noto sans\,-apple-system\,system-ui\,segoe ui\,helvetica\,arial\,sans-serif\; font-size:14px">Learn about the significance of healthy watersheds and how you can become a steward of these vital ecosystems.</span><br />\n<span style="background-color:rgb(240\, 241\, 245)\; color:rgb(14\, 19\, 24)\; font-family:canva sans\,noto sans variable\,noto sans\,-apple-system\,system-ui\,segoe ui\,helvetica\,arial\,sans-serif\; font-size:14px">This free event is proudly sponsored by River Oaks Courts and BCRAGD.</span>
LOCATION:River Oaks Courts 14349 Highway 16 N Medina\, TX 78055
UID:e.1327.29220
SEQUENCE:3
DTSTAMP:20260423T181803Z
URL:https://business.kerrvillechamber.biz/events/details/watershed-101-at-river-oaks-courts-29220
END:VEVENT

END:VCALENDAR
