BEGIN:VCALENDAR
VERSION:2.0
PRODID:-//ChamberMaster//Event Calendar 2.0//EN
METHOD:PUBLISH
X-PUBLISHED-TTL:P3D
REFRESH-INTERVAL:P3D
CALSCALE:GREGORIAN
BEGIN:VEVENT
DTSTART:20131019T233000Z
DTEND:20131020T043000Z
X-MICROSOFT-CDO-ALLDAYEVENT:FALSE
SUMMARY:"Western Gala with a Twist"
DESCRIPTION:"Western Gala with a Twist" Benefiting the Volunteer Services Council of the Kerrville State Hospital
X-ALT-DESC;FMTTYPE=text/html:&quot\;Western Gala with a Twist&quot\; Benefiting the Volunteer Services Council of the Kerrville State Hospital
LOCATION:Buckhorn Lake RV Resort
UID:e.1327.1047
SEQUENCE:3
DTSTAMP:20260419T132654Z
URL:https://business.kerrvillechamber.biz/events/details/western-gala-with-a-twist-10-19-2013-1047
END:VEVENT

END:VCALENDAR
