BEGIN:VCALENDAR
VERSION:2.0
PRODID:-//ChamberMaster//Event Calendar 2.0//EN
METHOD:PUBLISH
X-PUBLISHED-TTL:P3D
REFRESH-INTERVAL:P3D
CALSCALE:GREGORIAN
BEGIN:VEVENT
DTSTART:20121201T190000Z
DTEND:20121201T220000Z
X-MICROSOFT-CDO-ALLDAYEVENT:FALSE
SUMMARY:WREATH-MAKING WORKSHOP
DESCRIPTION:MAKE A WREATH. Create a festive\, one-of-a-kind decoration\, using native vines and greenery that students will gather at the center. Jennifer Koenning lends creative guidance. Greenery\, wiring and refreshments provided. Bring pliers\, scissors and vine cutters\, plus ribbons\, ornaments\, nature items. Cost is $25 RNC members\, $30 nonmembers.
X-ALT-DESC;FMTTYPE=text/html:<p class="MsoNormal">\n	<b>MAKE A WREATH.&nbsp\;</b>Create a festive\, one-of-a-kind decoration\, using native vines and greenery that students will gather at the center. Jennifer Koenning lends creative guidance. Greenery\, wiring and refreshments provided. Bring pliers\, scissors and vine cutters\, plus ribbons\, ornaments\, nature items. Cost is $25 RNC members\, $30 nonmembers.<o:p></o:p></p>\n
LOCATION:Riverside Nature Center\, 150 Francisco Lemos St.\, Kerr
UID:e.1327.422
SEQUENCE:3
DTSTAMP:20260420T053126Z
URL:https://business.kerrvillechamber.biz/events/details/wreath-making-workshop-12-01-2012-422
END:VEVENT

END:VCALENDAR
