BEGIN:VCALENDAR
VERSION:2.0
PRODID:-//ChamberMaster//Event Calendar 2.0//EN
METHOD:PUBLISH
X-PUBLISHED-TTL:P3D
REFRESH-INTERVAL:P3D
CALSCALE:GREGORIAN
BEGIN:VEVENT
DTSTART:20131116T150000Z
DTEND:20131116T180000Z
X-MICROSOFT-CDO-ALLDAYEVENT:FALSE
SUMMARY:Yoga Space's 10th Birthday Celebration
DESCRIPTION:The Yoga Space would like to thank YOU for a decade of love and support! Join us on Saturday\, November 16 for a FREE class at 9 am. Then stick around afterward to visit with your instructors while enjoying snacks and door prize drawings.
X-ALT-DESC;FMTTYPE=text/html:The Yoga Space would like to thank YOU for a decade of love and support! Join us on Saturday\, November 16 for a FREE class at 9 am. Then stick around afterward to visit with your instructors while enjoying snacks and door prize drawings.
LOCATION:804 Main St
UID:e.1327.1585
SEQUENCE:3
DTSTAMP:20260419T121540Z
URL:https://business.kerrvillechamber.biz/events/details/yoga-space-s-10th-birthday-celebration-11-16-2013-1585
END:VEVENT

END:VCALENDAR
