BEGIN:VCALENDAR
VERSION:2.0
PRODID:-//ChamberMaster//Event Calendar 2.0//EN
METHOD:PUBLISH
X-PUBLISHED-TTL:P3D
REFRESH-INTERVAL:P3D
CALSCALE:GREGORIAN
BEGIN:VEVENT
DTSTART:20150805T223000Z
DTEND:20150806T003000Z
X-MICROSOFT-CDO-ALLDAYEVENT:FALSE
SUMMARY:Young Professional Meetup and Social
DESCRIPTION:Come mix\, mingle and learn about the exciting opportunities Hill Country Young Professionals has to offer! Not a member yet? Not a problem! Bring a friend and potential members are always welcome! Drinks\, appetizers and dining will be available for ordering. Who is Hill Country Young Professionals? Open to employees\, business owners\, entrepreneurs and any others between the ages of 21-40\, who are interested in meeting the goals of the group. Wednesday\, August 5th 5:30p - 7:30p Held at SozialHaus\, 107 S. Llano St\, Fredericksburg\, TX
X-ALT-DESC;FMTTYPE=text/html:Come mix\, mingle and learn about the exciting opportunities Hill Country Young Professionals has to offer! Not a member yet? Not a problem! Bring a friend and potential members are always welcome! Drinks\, appetizers and dining will be available for ordering. Who is Hill Country Young Professionals? Open to employees\, business owners\, entrepreneurs and any others between the ages of 21-40\, who are interested in meeting the goals of the group. Wednesday\, August 5th 5:30p - 7:30p Held at SozialHaus\, 107 S. Llano St\, Fredericksburg\, TX
LOCATION:
UID:e.1327.5359
SEQUENCE:3
DTSTAMP:20260423T100555Z
URL:https://business.kerrvillechamber.biz/events/details/young-professional-meetup-and-social-08-05-2015-5359
END:VEVENT

END:VCALENDAR
