BEGIN:VCALENDAR
VERSION:2.0
PRODID:-//ChamberMaster//Event Calendar 2.0//EN
METHOD:PUBLISH
X-PUBLISHED-TTL:P3D
REFRESH-INTERVAL:P3D
CALSCALE:GREGORIAN
BEGIN:VEVENT
DTSTART:20150909T223000Z
DTEND:20150910T003000Z
X-MICROSOFT-CDO-ALLDAYEVENT:FALSE
SUMMARY:Young Professional Meetup and Social
DESCRIPTION:Come mix\, mingle and learn about the exciting opportunities HCYP has to offer! Not a member yet? Not a problem! Bring a friend and potential members are always welcome! Drinks will be available for ordering. Wednesday\, September 9th 5:30p - 7:30p Held at the RV Bar (located inside of the Guadalupe RV Resort)\, DT 's River Rock Saloon\, 2605 Junction Hwy\, Kerrville\, TX
X-ALT-DESC;FMTTYPE=text/html:Come mix\, mingle and learn about the exciting opportunities HCYP has to offer! Not a member yet? Not a problem! Bring a friend and potential members are always welcome! Drinks will be available for ordering. Wednesday\, September 9th 5:30p - 7:30p Held at the RV Bar (located inside of the Guadalupe RV Resort)\, DT &#39\;s River Rock Saloon\, 2605 Junction Hwy\, Kerrville\, TX
LOCATION:
UID:e.1327.5360
SEQUENCE:3
DTSTAMP:20260423T082704Z
URL:https://business.kerrvillechamber.biz/events/details/young-professional-meetup-and-social-09-09-2015-5360
END:VEVENT

END:VCALENDAR
