BEGIN:VCALENDAR
VERSION:2.0
PRODID:-//ChamberMaster//Event Calendar 2.0//EN
METHOD:PUBLISH
X-PUBLISHED-TTL:P3D
REFRESH-INTERVAL:P3D
CALSCALE:GREGORIAN
BEGIN:VEVENT
DTSTART:20150429T223000Z
DTEND:20150430T000000Z
X-MICROSOFT-CDO-ALLDAYEVENT:FALSE
SUMMARY:Young Professionals Meeting and Social
DESCRIPTION:Come mix\, mingle and learn about the exciting opportunities Hill Country Young Professionals (HCYP) has to offer! Not a member yet? Not a problem! Come check us out! Drinks\, appetizers and dining options will be available for order. HCYP Mission: Young career-oriented individuals fostering community leadership through\, networking\, professional development and community service. Open to employees\, business owners\, entrepreneurs and any others between the ages of 21-40\, who are interested in meeting the goals of the group. Join us on Wednesday\, April 29\, 5:30 p.m. - 7:00 p.m. @ Grape Juice in Kerrville
X-ALT-DESC;FMTTYPE=text/html:Come mix\, mingle and learn about the exciting opportunities Hill Country Young Professionals (HCYP) has to offer! Not a member yet? Not a problem! Come check us out! Drinks\, appetizers and dining options will be available for order. HCYP Mission: Young career-oriented individuals fostering community leadership through\, networking\, professional development and community service. Open to employees\, business owners\, entrepreneurs and any others between the ages of 21-40\, who are interested in meeting the goals of the group. Join us on Wednesday\, April 29\, 5:30 p.m. - 7:00 p.m. @ Grape Juice in Kerrville
LOCATION:Grape Juice\, 623 Water Street in Historic Downtown Kerrville
UID:e.1327.4627
SEQUENCE:3
DTSTAMP:20260423T201237Z
URL:https://business.kerrvillechamber.biz/events/details/young-professionals-meeting-and-social-04-29-2015-4627
END:VEVENT

END:VCALENDAR
