BEGIN:VCALENDAR
VERSION:2.0
PRODID:-//ChamberMaster//Event Calendar 2.0//EN
METHOD:PUBLISH
X-PUBLISHED-TTL:P3D
REFRESH-INTERVAL:P3D
CALSCALE:GREGORIAN
BEGIN:VEVENT
DTSTART:20151007T223000Z
DTEND:20151008T003000Z
X-MICROSOFT-CDO-ALLDAYEVENT:FALSE
SUMMARY:Young Professionals Meetup and Social
DESCRIPTION:Come mix\, mingle and learn about the exciting opportunities Hill Country Young Professionals has to offer! Not a member yet? Not a problem! Bring a friend and potential members are always welcome! Drinks\, appetizers and dining will be available for ordering. Who is Hill Country Young Professionals? Open to employees\, business owners\, entrepreneurs and any others between the ages of 21-40\, who are interested in meeting the goals of the group. Wednesday\, October 7th\, 5:30p - 7:30p Held at Cultures Grill and Bar (318 E Main St\, Fredericksburg)
X-ALT-DESC;FMTTYPE=text/html:Come mix\, mingle and learn about the exciting opportunities Hill Country Young Professionals has to offer! Not a member yet? Not a problem! Bring a friend and potential members are always welcome! Drinks\, appetizers and dining will be available for ordering. Who is Hill Country Young Professionals? Open to employees\, business owners\, entrepreneurs and any others between the ages of 21-40\, who are interested in meeting the goals of the group. Wednesday\, October 7th\, 5:30p - 7:30p Held at Cultures Grill and Bar (318 E Main St\, Fredericksburg)
LOCATION:Held at Cultures Grill and Bar (318 E Main St\, Fredericksburg)
UID:e.1327.5634
SEQUENCE:3
DTSTAMP:20260423T063450Z
URL:https://business.kerrvillechamber.biz/events/details/young-professionals-meetup-and-social-10-07-2015-5634
END:VEVENT

END:VCALENDAR
